BEGIN:VCALENDAR
VERSION:2.0
PRODID:-//American Marketing Association - Madison, WI Chapter - ECPv6.15.20//NONSGML v1.0//EN
CALSCALE:GREGORIAN
METHOD:PUBLISH
X-WR-CALNAME:American Marketing Association - Madison, WI Chapter
X-ORIGINAL-URL:https://amamadison.org
X-WR-CALDESC:Events for American Marketing Association - Madison, WI Chapter
REFRESH-INTERVAL;VALUE=DURATION:PT1H
X-Robots-Tag:noindex
X-PUBLISHED-TTL:PT1H
BEGIN:VTIMEZONE
TZID:America/Chicago
BEGIN:DAYLIGHT
TZOFFSETFROM:-0600
TZOFFSETTO:-0500
TZNAME:CDT
DTSTART:20250309T080000
END:DAYLIGHT
BEGIN:STANDARD
TZOFFSETFROM:-0500
TZOFFSETTO:-0600
TZNAME:CST
DTSTART:20251102T070000
END:STANDARD
BEGIN:DAYLIGHT
TZOFFSETFROM:-0600
TZOFFSETTO:-0500
TZNAME:CDT
DTSTART:20260308T080000
END:DAYLIGHT
BEGIN:STANDARD
TZOFFSETFROM:-0500
TZOFFSETTO:-0600
TZNAME:CST
DTSTART:20261101T070000
END:STANDARD
BEGIN:DAYLIGHT
TZOFFSETFROM:-0600
TZOFFSETTO:-0500
TZNAME:CDT
DTSTART:20270314T080000
END:DAYLIGHT
BEGIN:STANDARD
TZOFFSETFROM:-0500
TZOFFSETTO:-0600
TZNAME:CST
DTSTART:20271107T070000
END:STANDARD
END:VTIMEZONE
BEGIN:VEVENT
DTSTART;TZID=America/Chicago:20260129T120000
DTEND;TZID=America/Chicago:20260129T130000
DTSTAMP:20260420T031013
CREATED:20260107T023902Z
LAST-MODIFIED:20260107T023902Z
UID:5172-1769688000-1769691600@amamadison.org
SUMMARY:The New Playbook for Sports Partnerships
DESCRIPTION:Join Patrick Campion\, EVP and Partner at Fame Sport\, for a session that breaks down what next-level sports partnerships really look like. \nLogos in stadiums are not a strategy. They are wallpaper. And fans stopped noticing wallpaper a long time ago. \nIf you want to understand what real sports engagement looks like\, you need to hear from someone who has actually done it at scale. \nThat someone is Patrick Campion\, EVP and Partner at Fame Sport\, and one of the sharpest minds in the industry when it comes to turning sports partnerships into something fans actually care about. \nPatrick has built meaningful brand moments across REI\, Caribou Coffee\, SuperValu\, Sleep Number\, and NFL partnerships that did more than generate impressions. They generated impact. His work goes far beyond visibility and focuses on creating experiences that connect with fans in authentic\, memorable ways. \nOn January 29\, Patrick will break down the difference between being visible and being valuable in the sports world. \nIf your current partnership strategy could be summarized as logo placement plus a prayer\, this session is for you. And if you want to do more with sports marketing but are not sure how to get there\, this session will help you rethink what is possible. \nThis virtual session is presented jointly by the AMA Milwaukee\, AMA Madison\, and AMA Northeast Wisconsin chapters. \nPricingAMA members attend free.Non-members: $10. \nREGISTER TODAY
URL:https://amamadison.org/event/the-new-playbook-for-sports-partnerships/
LOCATION:Online
CATEGORIES:Virtual
ATTACH;FMTTYPE=image/png:https://amamadison.org/wp-content/uploads/2026/01/january-2026-collab-eventbrite.png
END:VEVENT
END:VCALENDAR