BEGIN:VCALENDAR
VERSION:2.0
PRODID:-//American Marketing Association - Madison, WI Chapter - ECPv6.15.20//NONSGML v1.0//EN
CALSCALE:GREGORIAN
METHOD:PUBLISH
X-WR-CALNAME:American Marketing Association - Madison, WI Chapter
X-ORIGINAL-URL:https://amamadison.org
X-WR-CALDESC:Events for American Marketing Association - Madison, WI Chapter
REFRESH-INTERVAL;VALUE=DURATION:PT1H
X-Robots-Tag:noindex
X-PUBLISHED-TTL:PT1H
BEGIN:VTIMEZONE
TZID:America/Chicago
BEGIN:DAYLIGHT
TZOFFSETFROM:-0600
TZOFFSETTO:-0500
TZNAME:CDT
DTSTART:20240310T080000
END:DAYLIGHT
BEGIN:STANDARD
TZOFFSETFROM:-0500
TZOFFSETTO:-0600
TZNAME:CST
DTSTART:20241103T070000
END:STANDARD
BEGIN:DAYLIGHT
TZOFFSETFROM:-0600
TZOFFSETTO:-0500
TZNAME:CDT
DTSTART:20250309T080000
END:DAYLIGHT
BEGIN:STANDARD
TZOFFSETFROM:-0500
TZOFFSETTO:-0600
TZNAME:CST
DTSTART:20251102T070000
END:STANDARD
BEGIN:DAYLIGHT
TZOFFSETFROM:-0600
TZOFFSETTO:-0500
TZNAME:CDT
DTSTART:20260308T080000
END:DAYLIGHT
BEGIN:STANDARD
TZOFFSETFROM:-0500
TZOFFSETTO:-0600
TZNAME:CST
DTSTART:20261101T070000
END:STANDARD
END:VTIMEZONE
BEGIN:VEVENT
DTSTART;TZID=America/Chicago:20251203T170000
DTEND;TZID=America/Chicago:20251203T193000
DTSTAMP:20260422T041246
CREATED:20251028T172952Z
LAST-MODIFIED:20251118T023233Z
UID:5135-1764781200-1764790200@amamadison.org
SUMMARY:2025 Snowflake Soiree
DESCRIPTION:❄️ Join Us for the 2nd Annual Snowflake Soirée: A Holiday Collaboration Event! ❄️\n\n\n\n\n\nTis the season to mingle and jingle! The Snowflake Soirée is back—and it’s your chance to make merry with Madison’s marketing and communication pros. Whether you’re looking to grow your network\, spark a collaboration or just have fun\, this festive evening is the perfect way to wrap up the year. Cash bar available for beverages. \nEvent Details:\n● Date: Wednesday\, December 3\, 2025\n● Time: 5-7:30 PM\n● Location: The Sylvee\, 2nd Floor\, 25 S Livingston St\, Madison\, WI 53703\n● Cost: $15 + Eventbrite Fee (includes event entry\, light appetizers\, and a raffle ticket) \nHoliday Spirit: Bring a non-perishable food item for Second Harvest\, and we’ll throw in extra raffle tickets. \nEvening Schedule:\n● 5:00 PM – Doors Open\n● 5–6:00 PM – Light Appetizers & Mingling\, Games\n● 6:00 PM – Raffle Drawing \n\n\n\n\n\n\n\nREGISTER TODAY >> \n\nHosted by Madison’s Marketing Masterminds:\n● American Marketing Association – Madison\n● LinkedIn Local Madison\n● Madison Media Professionals\n● Madison Area Business Consultants\n● Public Relations Society of America\n● Social Media Breakfast \n\n\n\n  \nThank you to our sponsors:\npc/nametag\nSuttle Straus\nThe Mouse House\nLife Echo Media\nLittle Big Promotions
URL:https://amamadison.org/event/2025-snowflake-soiree/
LOCATION:Sylvee\, 25 South Livingston Street\, Madison\, 53703\, United States
CATEGORIES:AMA Networking
ATTACH;FMTTYPE=image/jpeg:https://amamadison.org/wp-content/uploads/2025/10/Snowflake-Soire╠ue-Eventbrite-2.jpg
END:VEVENT
END:VCALENDAR