BEGIN:VCALENDAR
VERSION:2.0
PRODID:-//American Marketing Association - Madison, WI Chapter - ECPv6.15.20//NONSGML v1.0//EN
CALSCALE:GREGORIAN
METHOD:PUBLISH
X-ORIGINAL-URL:https://amamadison.org
X-WR-CALDESC:Events for American Marketing Association - Madison, WI Chapter
REFRESH-INTERVAL;VALUE=DURATION:PT1H
X-Robots-Tag:noindex
X-PUBLISHED-TTL:PT1H
BEGIN:VTIMEZONE
TZID:America/Chicago
BEGIN:DAYLIGHT
TZOFFSETFROM:-0600
TZOFFSETTO:-0500
TZNAME:CDT
DTSTART:20230312T080000
END:DAYLIGHT
BEGIN:STANDARD
TZOFFSETFROM:-0500
TZOFFSETTO:-0600
TZNAME:CST
DTSTART:20231105T070000
END:STANDARD
BEGIN:DAYLIGHT
TZOFFSETFROM:-0600
TZOFFSETTO:-0500
TZNAME:CDT
DTSTART:20240310T080000
END:DAYLIGHT
BEGIN:STANDARD
TZOFFSETFROM:-0500
TZOFFSETTO:-0600
TZNAME:CST
DTSTART:20241103T070000
END:STANDARD
BEGIN:DAYLIGHT
TZOFFSETFROM:-0600
TZOFFSETTO:-0500
TZNAME:CDT
DTSTART:20250309T080000
END:DAYLIGHT
BEGIN:STANDARD
TZOFFSETFROM:-0500
TZOFFSETTO:-0600
TZNAME:CST
DTSTART:20251102T070000
END:STANDARD
END:VTIMEZONE
BEGIN:VEVENT
DTSTART;TZID=America/Chicago:20240910T080000
DTEND;TZID=America/Chicago:20240910T100000
DTSTAMP:20260422T041834
CREATED:20240621T015933Z
LAST-MODIFIED:20240814T123831Z
UID:4538-1725955200-1725962400@amamadison.org
SUMMARY:Bright Beginnings: The Branding of Everything
DESCRIPTION:Begin your day with inspiration and insight at our first AMA Bright Beginnings series! Designed for marketers eager to jump start their mornings with fresh ideas and actionable strategies\, this series serves up thought-provoking trends\, best practices\, and networking. \nWe’re kicking off the season with a renowned speaker from one of the most recognizable brands in the area\, the University of Wisconsin. UW-Madison Assistant Professor\, Todd Newman\, will explore the role of brands and branding in society and share all the secrets to building and maintaining a successful brand. \nMake your mornings matter. Register now and secure your spot! \nEvent Details\nDate: Tuesday\, September 10 \nSchedule: \n\n8 am – Registration\n8:30 am – Program Begins\n10 am – End\n\nLocation: MYArts\, 1055 E Mifflin St\, Madison\, WI 53703 \nCost: \n\n$10 for AMA Members\n$25 for non-members\n$5 for Students\n\nAMA Members: Check your emails for your member code. If you have any questions\, please contact madison@amamadison.org. \nBonus: Includes continental breakfast\, coffee and juice \nConveniently located at the E Washington at S Ingersoll stop on the A/B line. Plan your route at Madison Metro Transit. \nSee our cancellation policy for details. \n \nSponsored by Spoken Frame Media\, MYArts and Badger Talks.     \n\n\n \nAbout the Speaker\n\n\n\n\n\n\n\n\n\n\nTodd Newman\n \nTodd P. Newman is an assistant professor in the Department of Life Sciences Communication at University of Wisconsin-Madison and an affiliate of the Robert F. and Jean E. Holtz Center for Science & Technology Studies and the Nelson Institute for Environmental Studies. His teaching responsibilities include courses in strategic communication and marketing. Newman has published a number of research articles on these topics in outlets such as Public Understanding of Science\, Science Communication\, International Journal of Science Education–Part B\, Journal of Political Marketing\, as well as media outlets including The Conversation and Fast Company. He has served as an expert panelist for the National Academies of Sciences and as a co-author for commissioned reports to the American Association for the Advancement of Science. He received his Ph.D. in Communication at American University\, and previously served as a postdoctoral research associate at the University of Connecticut and the Alan Alda Center for Communicating Science at Stony Brook University.\n \nYou can follow him on Twitter or LinkedIn.\n\n\n \nThank you to our sponsor(s)\n\n\n\n\n\n\n \n \n\n\n\n\n\n\n\n\n\n\n\n \n \nAbout the Venue\nMYArts is a dedicated and purpose-built youth arts center in Madison\, WI for young people to inspire and be inspired\, discover the arts\, make connections\, and explore their creativity.\n\n 
URL:https://amamadison.org/event/september-event/
LOCATION:MYArts\, 1055 E Mifflin St\, Madison\, 53703\, United States
CATEGORIES:Bright Beginnings
ATTACH;FMTTYPE=image/jpeg:https://amamadison.org/wp-content/uploads/2024/06/bright-beginnings-branding-of-everything.jpg
END:VEVENT
END:VCALENDAR