BEGIN:VCALENDAR
VERSION:2.0
PRODID:-//American Marketing Association - Madison, WI Chapter - ECPv6.15.20//NONSGML v1.0//EN
CALSCALE:GREGORIAN
METHOD:PUBLISH
X-WR-CALNAME:American Marketing Association - Madison, WI Chapter
X-ORIGINAL-URL:https://amamadison.org
X-WR-CALDESC:Events for American Marketing Association - Madison, WI Chapter
REFRESH-INTERVAL;VALUE=DURATION:PT1H
X-Robots-Tag:noindex
X-PUBLISHED-TTL:PT1H
BEGIN:VTIMEZONE
TZID:America/Chicago
BEGIN:DAYLIGHT
TZOFFSETFROM:-0600
TZOFFSETTO:-0500
TZNAME:CDT
DTSTART:20230312T080000
END:DAYLIGHT
BEGIN:STANDARD
TZOFFSETFROM:-0500
TZOFFSETTO:-0600
TZNAME:CST
DTSTART:20231105T070000
END:STANDARD
BEGIN:DAYLIGHT
TZOFFSETFROM:-0600
TZOFFSETTO:-0500
TZNAME:CDT
DTSTART:20240310T080000
END:DAYLIGHT
BEGIN:STANDARD
TZOFFSETFROM:-0500
TZOFFSETTO:-0600
TZNAME:CST
DTSTART:20241103T070000
END:STANDARD
BEGIN:DAYLIGHT
TZOFFSETFROM:-0600
TZOFFSETTO:-0500
TZNAME:CDT
DTSTART:20250309T080000
END:DAYLIGHT
BEGIN:STANDARD
TZOFFSETFROM:-0500
TZOFFSETTO:-0600
TZNAME:CST
DTSTART:20251102T070000
END:STANDARD
END:VTIMEZONE
BEGIN:VEVENT
DTSTART;TZID=America/Chicago:20240326T160000
DTEND;TZID=America/Chicago:20240326T173000
DTSTAMP:20260423T032937
CREATED:20231025T211020Z
LAST-MODIFIED:20240304T190625Z
UID:4147-1711468800-1711474200@amamadison.org
SUMMARY:Making Waves: Creating Lake Ridge Bank’s New Brand
DESCRIPTION:Rebranding can be complicated. Hear from Lake Ridge Bank’s President on their journey of combining two brands into a single new identity. \nHow do you combine two long-term\, established brands and create something entirely new? Paul Hoffmann\, president of Lake Ridge Bank will discuss how his team was able to combine two area banks\, State Bank of Cross Plains and Monona Bank\, last year to create an entirely new bank\, Lake Ridge Bank. Paul will walk you though the steps the banks went through to create and roll out a completely new brand for the bank\, including selecting a new name\, as well as creating a new corporate logo\, color scheme and brand package in less than a year. He will also share some of the unexpected “lessons learned” in the rebranding process that may help those beginning a rebranding project. \nRegister soon–limited in-person availability! \nThe event begins on Tuesday\, March 26th at 4 p.m. CST with networking. \n\nAMA Madison members: $10\nNon-members: $20\nStudents: $5\n\nTickets include drink ticket and light appetizers. \nSee our cancellation policy for details. \nMany thanks to our Craft Marketing sponsors: Kramer\, Winbound\, and Spoken Frame Media! \nAbout the Speaker\n \nPaul Hoffmann | Lake Ridge Bank\, President \nPaul Hoffmann served as the President and CEO of Monona Bank since June 2007\, and he now assumes the role of President for Lake Ridge Bank as well as a Director for both Lake Ridge Bancorp\, Inc. and the bank. Paul has more than 35 years experience in the banking industry\, including time spent working at M&I Bank and Park Bank in Madison\, as well as for the Federal Reserve Bank in Minneapolis. Paul graduated from St. Mary’s University in Winona\, Minnesota with a Bachelor of Arts degree with majors in Business Administration-Management and Humanities. He also completed the Graduate School of Banking Program at the University of Wisconsin Madison. Paul is active in the community and currently serves on the board of Rotary Club of Madison and Maple Bluff Country Club. He previously was Chairman of Goodwill Industries of South Central Wisconsin\, Chairman of Community Bankers of Wisconsin and on the board of Monona Chamber of Commerce. \nAMA Madison’s ‘Craft Marketing’ Series\nCraft Marketing features a local presenter at establishments in Madison. You’ll have the chance to learn about a wide range of marketing topics while meeting other industry professionals—all while enjoying spirits and light appetizers! \nThanks to our sponsors\n \n \n \n  \n  \nAbout the Venue\nThe Thirsty Goat Restaurant in Fitchburg features 40+ beers on tap\, smoked meats\, broasted chicken\, 30-55″ TVs\, gorgeous patio with fire pit\, 2 private banquet rooms and the best staff around! \n 
URL:https://amamadison.org/event/craft-marketing-2024-03/
LOCATION:The Thirsty Goat\, 3040 Cahill Main\, Fitchburg\, WI\, 53711\, United States
CATEGORIES:Craft Marketing
ATTACH;FMTTYPE=image/jpeg:https://amamadison.org/wp-content/uploads/2023/10/amamad_cm_phoffmann_2160x1080_eb.jpg
END:VEVENT
END:VCALENDAR